BEGIN:VCALENDAR
VERSION:2.0
PRODID:icalendar-ruby
CALSCALE:GREGORIAN
METHOD:PUBLISH
BEGIN:VTIMEZONE
TZID:Australia/Brisbane
BEGIN:STANDARD
DTSTART:19920301T020000
TZOFFSETFROM:+1100
TZOFFSETTO:+1000
TZNAME:AEST
END:STANDARD
END:VTIMEZONE
BEGIN:VEVENT
DTSTAMP:20260423T075920Z
UID:inspection_3010123
DTSTART;TZID=Australia/Brisbane:20260424T110000
DTEND;TZID=Australia/Brisbane:20260424T113000
CLASS:PUBLIC
CREATED:20260422T172228
DESCRIPTION: 
LAST-MODIFIED:20260422T172228
LOCATION:2 Kaeser Road\, MOUNT ISA QLD 4825\, Australia
SUMMARY:2 Kaeser Road\,  Inspection
URL;VALUE=URI:http://www.platinumre.com.au/
END:VEVENT
END:VCALENDAR
