BEGIN:VCALENDAR
VERSION:2.0
PRODID:icalendar-ruby
CALSCALE:GREGORIAN
METHOD:PUBLISH
BEGIN:VTIMEZONE
TZID:Australia/Brisbane
BEGIN:STANDARD
DTSTART:19920301T020000
TZOFFSETFROM:+1100
TZOFFSETTO:+1000
TZNAME:AEST
END:STANDARD
END:VTIMEZONE
BEGIN:VEVENT
DTSTAMP:20260423T080232Z
UID:inspection_3010122
DTSTART;TZID=Australia/Brisbane:20260424T150000
DTEND;TZID=Australia/Brisbane:20260424T153000
CLASS:PUBLIC
CREATED:20260422T172211
DESCRIPTION: 
LAST-MODIFIED:20260422T172211
LOCATION:L24 - L25 Texas Yelarbon Road\, GLENARBON QLD 4385\, Australia
SUMMARY:L24 - L25 Texas Yelarbon Road\,  Inspection
URL;VALUE=URI:http://www.platinumre.com.au/
END:VEVENT
END:VCALENDAR
