BEGIN:VCALENDAR
VERSION:2.0
PRODID:icalendar-ruby
CALSCALE:GREGORIAN
METHOD:PUBLISH
BEGIN:VTIMEZONE
TZID:Australia/Brisbane
BEGIN:STANDARD
DTSTART:19920301T020000
TZOFFSETFROM:+1100
TZOFFSETTO:+1000
TZNAME:AEST
END:STANDARD
END:VTIMEZONE
BEGIN:VEVENT
DTSTAMP:20260423T080349Z
UID:inspection_3010103
DTSTART;TZID=Australia/Brisbane:20260424T130000
DTEND;TZID=Australia/Brisbane:20260424T133000
CLASS:PUBLIC
CREATED:20260422T171405
DESCRIPTION: 
LAST-MODIFIED:20260422T171405
LOCATION:6 Sharyn Place\, BENOBBLE QLD 4275\, Australia
SUMMARY:6 Sharyn Place\,  Inspection
URL;VALUE=URI:http://www.platinumre.com.au/
END:VEVENT
END:VCALENDAR
